BEGIN:VCALENDAR
VERSION:2.0
PRODID:-//jEvents 2.0 for Joomla//EN
CALSCALE:GREGORIAN
METHOD:PUBLISH
BEGIN:VEVENT
UID:040000008200E00074C5B7101A82E00800000000D3BDC3C21798DC01000000000000000010000000806E0FF2E05B3B4D92904E46AA8449D5
CATEGORIES:IKG Termine
CLASS:PUBLIC
CREATED:20260207T120004
SUMMARY:Einstieg in die Berufsorientierung - Potenziale entdecken (8c, 8d)
DESCRIPTION:<br/>
DTSTAMP:20260420T105139
DTSTART;VALUE=DATE:20260303
DTEND;VALUE=DATE:20260304
SEQUENCE:0
TRANSP:OPAQUE
END:VEVENT
END:VCALENDAR