BEGIN:VCALENDAR
VERSION:2.0
PRODID:-//jEvents 2.0 for Joomla//EN
CALSCALE:GREGORIAN
METHOD:PUBLISH
BEGIN:VEVENT
UID:3abf68d3-c3aa-4059-9b24-1dd491f0912d
CATEGORIES:Ferien und Feiertage
CREATED:20230523T202558
SUMMARY:1. Weihnachtstag in Deutschland
DESCRIPTION:1. Weihnachtstag in Deutschland - Importiert von Ferienwiki.de
DTSTAMP:20260420T105159
DTSTART;VALUE=DATE:20251225
DTEND;VALUE=DATE:20251226
SEQUENCE:0
TRANSP:OPAQUE
END:VEVENT
END:VCALENDAR