BEGIN:VCALENDAR
VERSION:2.0
PRODID:-//jEvents 2.0 for Joomla//EN
CALSCALE:GREGORIAN
METHOD:PUBLISH
BEGIN:VEVENT
UID:FT_2022_feiertag61020243c8696@schulferien.org
CATEGORIES:Ferien und Feiertage
CREATED:20210815T232421
SUMMARY:Fronleichnam
DESCRIPTION:
DTSTAMP:20260420T151501
DTSTART;VALUE=DATE:20220616
DTEND;VALUE=DATE:20220617
SEQUENCE:0
TRANSP:OPAQUE
END:VEVENT
END:VCALENDAR