BEGIN:VCALENDAR
VERSION:2.0
PRODID:-//jEvents 2.0 for Joomla//EN
CALSCALE:GREGORIAN
METHOD:PUBLISH
BEGIN:VEVENT
UID:040000008200E00074C5B7101A82E00800000000E0B2D897AF34D5010000000000000000100000008D6E6257EF5ABC42B6003A4664D707B5
CATEGORIES:Ferien und Feiertage
CLASS:PUBLIC
CREATED:20190707T110043
SUMMARY:Sommerferien 2022 Nordrhein-Westfalen
DESCRIPTION:
DTSTAMP:20260420T151501
DTSTART;VALUE=DATE:20220627
DTEND;VALUE=DATE:20220809
SEQUENCE:0
TRANSP:OPAQUE
END:VEVENT
END:VCALENDAR