BEGIN:VCALENDAR
VERSION:2.0
PRODID:-//jEvents 2.0 for Joomla//EN
CALSCALE:GREGORIAN
METHOD:PUBLISH
BEGIN:VEVENT
UID:7d5169ab-c66d-4631-b7b8-e7a60ee207aa
CATEGORIES:Ferien und Feiertage
CLASS:PUBLIC
CREATED:20190707T105828
SUMMARY:Fronleichnam
DESCRIPTION:Fronleichnam
DTSTAMP:20260419T144934
DTSTART;VALUE=DATE:20210603
DTEND;VALUE=DATE:20210604
SEQUENCE:0
TRANSP:OPAQUE
END:VEVENT
END:VCALENDAR