BEGIN:VCALENDAR
VERSION:2.0
PRODID:-//jEvents 2.0 for Joomla//EN
CALSCALE:GREGORIAN
METHOD:PUBLISH
BEGIN:VEVENT
UID:3c54b2d3250751f8de41f98c3d13837d
CATEGORIES:Ferien und Feiertage
CREATED:20240623T113041
SUMMARY:Herbstferien
DESCRIPTION:
DTSTAMP:20260420T072502
DTSTART;VALUE=DATE:20241014
DTEND;VALUE=DATE:20241027
SEQUENCE:0
TRANSP:OPAQUE
END:VEVENT
END:VCALENDAR