BEGIN:VCALENDAR
VERSION:2.0
PRODID:-//jEvents 2.0 for Joomla//EN
CALSCALE:GREGORIAN
METHOD:PUBLISH
BEGIN:VEVENT
UID:0d6d788e-20a3-4354-a50b-7a060aa7c9e6
CATEGORIES:Ferien und Feiertage
CREATED:20230523T202510
SUMMARY:Fronleichnam in Deutschland
DESCRIPTION:Fronleichnam in Deutschland - Importiert von Ferienwiki.de
DTSTAMP:20260420T072045
DTSTART;VALUE=DATE:20240530
DTEND;VALUE=DATE:20240531
SEQUENCE:0
TRANSP:OPAQUE
END:VEVENT
END:VCALENDAR