BEGIN:VCALENDAR
VERSION:2.0
PRODID:-//jEvents 2.0 for Joomla//EN
CALSCALE:GREGORIAN
METHOD:PUBLISH
BEGIN:VEVENT
UID:55d01e20-45f8-472c-a605-0c6d4046a990
CATEGORIES:Ferien und Feiertage
CREATED:20230523T202510
SUMMARY:Christi Himmelfahrt in Deutschland
DESCRIPTION:Christi Himmelfahrt in Deutschland - Importiert von Ferienwiki.de
DTSTAMP:20260420T072636
DTSTART;VALUE=DATE:20240509
DTEND;VALUE=DATE:20240510
SEQUENCE:0
TRANSP:OPAQUE
END:VEVENT
END:VCALENDAR