BEGIN:VCALENDAR
VERSION:2.0
PRODID:-//jEvents 2.0 for Joomla//EN
CALSCALE:GREGORIAN
METHOD:PUBLISH
BEGIN:VEVENT
UID:040000008200E00074C5B7101A82E00800000000D0960EA7AF34D501000000000000000010000000D2C173C4C8F4CA41AABB3978E81B0668
CATEGORIES:Ferien und Feiertage
CLASS:PUBLIC
CREATED:20190707T110043
SUMMARY:Osterferien 2021 Nordrhein-Westfalen
DESCRIPTION:
DTSTAMP:20260419T160002
DTSTART;VALUE=DATE:20210329
DTEND;VALUE=DATE:20210411
SEQUENCE:0
TRANSP:OPAQUE
END:VEVENT
END:VCALENDAR