BEGIN:VCALENDAR
VERSION:2.0
PRODID:-//jEvents 2.0 for Joomla//EN
CALSCALE:GREGORIAN
METHOD:PUBLISH
BEGIN:VEVENT
UID:040000008200E00074C5B7101A82E00800000000008B74A4AF34D50100000000000000001000000084B55FD25DCB644DB3957FE5076AEF37
CATEGORIES:Ferien und Feiertage
CLASS:PUBLIC
CREATED:20190707T110043
SUMMARY:Pfingsten 2021 Nordrhein-Westfalen
DESCRIPTION:
DTSTAMP:20260419T160435
DTSTART;VALUE=DATE:20210525
SEQUENCE:0
TRANSP:OPAQUE
END:VEVENT
END:VCALENDAR