BEGIN:VCALENDAR
VERSION:2.0
PRODID:-//jEvents 2.0 for Joomla//EN
CALSCALE:GREGORIAN
METHOD:PUBLISH
BEGIN:VEVENT
UID:040000008200E00074C5B7101A82E0080000000020B4AD9FAF34D5010000000000000000100000005AD3A2885E9ECD42B37D51738DA96051
CATEGORIES:Ferien und Feiertage
CLASS:PUBLIC
CREATED:20190707T110043
SUMMARY:Herbstferien 2021 Nordrhein-Westfalen
DESCRIPTION:
DTSTAMP:20260419T160252
DTSTART;VALUE=DATE:20211011
DTEND;VALUE=DATE:20211024
SEQUENCE:0
TRANSP:OPAQUE
END:VEVENT
END:VCALENDAR