BEGIN:VCALENDAR
VERSION:2.0
PRODID:-//jEvents 2.0 for Joomla//EN
CALSCALE:GREGORIAN
METHOD:PUBLISH
BEGIN:VEVENT
UID:040000008200E00074C5B7101A82E0080000000010334B9DAF34D50100000000000000001000000039D35361A65F334D8E361999AD5B469B
CATEGORIES:Ferien und Feiertage
CLASS:PUBLIC
CREATED:20190707T110043
SUMMARY:Weihnachtsferien 2021 Nordrhein-Westfalen
DESCRIPTION:
DTSTAMP:20260419T161246
DTSTART;VALUE=DATE:20211224
DTEND;VALUE=DATE:20220109
SEQUENCE:0
TRANSP:OPAQUE
END:VEVENT
END:VCALENDAR