BEGIN:VCALENDAR
VERSION:2.0
PRODID:-//jEvents 2.0 for Joomla//EN
CALSCALE:GREGORIAN
METHOD:PUBLISH
BEGIN:VEVENT
UID:040000008200E00074C5B7101A82E00800000000F065039BAF34D501000000000000000010000000DCA0070879710C4BA3A7E047BF27D4F3
CATEGORIES:Ferien und Feiertage
CLASS:PUBLIC
CREATED:20190707T110043
SUMMARY:Osterferien 2022 Nordrhein-Westfalen
DESCRIPTION:
DTSTAMP:20260425T020937
DTSTART;VALUE=DATE:20220411
DTEND;VALUE=DATE:20220424
SEQUENCE:0
TRANSP:OPAQUE
END:VEVENT
END:VCALENDAR