BEGIN:VCALENDAR
VERSION:2.0
PRODID:-//jEvents 2.0 for Joomla//EN
CALSCALE:GREGORIAN
METHOD:PUBLISH
BEGIN:VEVENT
UID:040000008200E00074C5B7101A82E00800000000404CB495AF34D501000000000000000010000000193201D98E575749AE91B8FFB6AC0784
CATEGORIES:Ferien und Feiertage
CLASS:PUBLIC
CREATED:20190707T110043
SUMMARY:Herbstferien 2022 Nordrhein-Westfalen
DESCRIPTION:
DTSTAMP:20260425T022255
DTSTART;VALUE=DATE:20221004
DTEND;VALUE=DATE:20221016
SEQUENCE:0
TRANSP:OPAQUE
END:VEVENT
END:VCALENDAR