BEGIN:VCALENDAR
VERSION:2.0
PRODID:-//jEvents 2.0 for Joomla//EN
CALSCALE:GREGORIAN
METHOD:PUBLISH
BEGIN:VEVENT
UID:040000008200E00074C5B7101A82E00800000000F01E2A93AF34D5010000000000000000100000008EB0C7E5B3C66B469558A0FDF4F0C9D6
CATEGORIES:Ferien und Feiertage
CLASS:PUBLIC
CREATED:20190707T110043
SUMMARY:Weihnachtsferien 2022 Nordrhein-Westfalen
DESCRIPTION:
DTSTAMP:20260425T020248
DTSTART;VALUE=DATE:20221223
DTEND;VALUE=DATE:20230108
SEQUENCE:0
TRANSP:OPAQUE
END:VEVENT
END:VCALENDAR