BEGIN:VCALENDAR
VERSION:2.0
PRODID:-//jEvents 2.0 for Joomla//EN
CALSCALE:GREGORIAN
METHOD:PUBLISH
BEGIN:VEVENT
UID:040000008200E00074C5B7101A82E00800000000308C7185AF34D501000000000000000010000000DFF51F58B3D0374682C92CB087B4EFE9
CATEGORIES:Ferien und Feiertage
CLASS:PUBLIC
CREATED:20190707T110043
SUMMARY:Weihnachtsferien 2023 Nordrhein-Westfalen
DESCRIPTION:
DTSTAMP:20260420T071841
DTSTART;VALUE=DATE:20231221
DTEND;VALUE=DATE:20240107
SEQUENCE:0
TRANSP:OPAQUE
END:VEVENT
END:VCALENDAR