BEGIN:VCALENDAR
VERSION:2.0
PRODID:-//jEvents 2.0 for Joomla//EN
CALSCALE:GREGORIAN
METHOD:PUBLISH
BEGIN:VEVENT
UID:040000008200E00074C5B7101A82E0080000000000E9DD82AF34D50100000000000000001000000065E845CAA3977D41B4AE79D62F2D7AA7
CATEGORIES:Ferien und Feiertage
CLASS:PUBLIC
CREATED:20190707T110043
SUMMARY:Osterferien 2024 Nordrhein-Westfalen
DESCRIPTION:
DTSTAMP:20260420T071919
DTSTART;VALUE=DATE:20240325
DTEND;VALUE=DATE:20240407
SEQUENCE:0
TRANSP:OPAQUE
END:VEVENT
END:VCALENDAR