BEGIN:VCALENDAR
VERSION:2.0
PRODID:-//jEvents 2.0 for Joomla//EN
CALSCALE:GREGORIAN
METHOD:PUBLISH
BEGIN:VEVENT
UID:040000008200E00074C5B7101A82E00800000000B0E5ED7AAF34D501000000000000000010000000A2664A561BA0A443B35FBAAEFA076977
CATEGORIES:Ferien und Feiertage
CLASS:PUBLIC
CREATED:20190707T110043
SUMMARY:Pfingsten 2024 Nordrhein-Westfalen
DESCRIPTION:
DTSTAMP:20260420T071852
DTSTART;VALUE=DATE:20240521
SEQUENCE:0
TRANSP:OPAQUE
END:VEVENT
END:VCALENDAR