BEGIN:VCALENDAR
VERSION:2.0
PRODID:-//jEvents 2.0 for Joomla//EN
CALSCALE:GREGORIAN
METHOD:PUBLISH
BEGIN:VEVENT
UID:c53e35b6-38ac-4d80-843d-b3d91e868df5
CATEGORIES:Ferien und Feiertage
CLASS:PUBLIC
CREATED:20190707T105828
SUMMARY:Allerheiligen
DESCRIPTION:Allerheiligen
DTSTAMP:20260419T160144
DTSTART;VALUE=DATE:20211101
DTEND;VALUE=DATE:20211102
SEQUENCE:0
TRANSP:OPAQUE
END:VEVENT
END:VCALENDAR